BEGIN:VCALENDAR
VERSION:2.0
PRODID:-//casakc.org//NONSGML kigkonsult.se iCalcreator 2.30.10//
CALSCALE:GREGORIAN
METHOD:PUBLISH
UID:79e14aea-fd3b-4ed9-88c8-e3035aa6322e
X-WR-CALDESC:
X-WR-RELCALID:df06c34360ee3866904322f17b74f748
X-WR-TIMEZONE:America/Chicago
BEGIN:VTIMEZONE
TZID:America/Chicago
BEGIN:STANDARD
TZNAME:CST
DTSTART:20201101T020000
TZOFFSETFROM:-0500
TZOFFSETTO:-0600
RDATE:20211107T020000
RDATE:20221106T020000
END:STANDARD
BEGIN:DAYLIGHT
TZNAME:CDT
DTSTART:20210314T020000
TZOFFSETFROM:-0600
TZOFFSETTO:-0500
RDATE:20220313T020000
RDATE:20230312T020000
END:DAYLIGHT
END:VTIMEZONE
BEGIN:VEVENT
UID:08147530-0dd2-4eca-a2db-07e0c55bbefc
DTSTAMP:20260424T054915Z
DESCRIPTION:
DTSTART;TZID=America/Chicago:20210913T170000
DTEND;TZID=America/Chicago:20210913T200000
LOCATION:Email Lisa\, LMartin@jacksoncountycasa-mo.org for the Zoom link.
SUMMARY:Volunteer Training 1/5
END:VEVENT
END:VCALENDAR
