BEGIN:VCALENDAR
VERSION:2.0
PRODID:-//casakc.org//NONSGML kigkonsult.se iCalcreator 2.30.10//
CALSCALE:GREGORIAN
METHOD:PUBLISH
UID:fe65f444-9fa9-42db-a2ad-4e15d49d3ceb
X-WR-CALDESC:
X-WR-RELCALID:1a87bab3e4884057b067e4b78c33f3d8
X-WR-TIMEZONE:America/Chicago
BEGIN:VTIMEZONE
TZID:America/Chicago
BEGIN:STANDARD
TZNAME:CST
DTSTART:20201101T020000
TZOFFSETFROM:-0500
TZOFFSETTO:-0600
RDATE:20211107T020000
RDATE:20221106T020000
END:STANDARD
BEGIN:DAYLIGHT
TZNAME:CDT
DTSTART:20210314T020000
TZOFFSETFROM:-0600
TZOFFSETTO:-0500
RDATE:20220313T020000
RDATE:20230312T020000
END:DAYLIGHT
END:VTIMEZONE
BEGIN:VEVENT
UID:ba037699-d7de-4202-8cb1-6adde5943f9b
DTSTAMP:20260424T055235Z
DESCRIPTION:
DTSTART;TZID=America/Chicago:20210914T170000
DTEND;TZID=America/Chicago:20210914T200000
LOCATION:
SUMMARY:Fostering Futures Training 1/2
END:VEVENT
END:VCALENDAR
