BEGIN:VCALENDAR
VERSION:2.0
PRODID:-//casakc.org//NONSGML kigkonsult.se iCalcreator 2.30.10//
CALSCALE:GREGORIAN
METHOD:PUBLISH
UID:6aaccc8c-2951-4179-9999-72186d628b18
X-WR-CALDESC:This volunteer information session will explain what a CASA Vo
 lunteer does and the steps required to become one.
X-WR-RELCALID:c2ecb58115a61642bdcb63a0f6efb9aa
X-WR-TIMEZONE:America/Chicago
BEGIN:VTIMEZONE
TZID:America/Chicago
BEGIN:STANDARD
TZNAME:CST
DTSTART:20201101T020000
TZOFFSETFROM:-0500
TZOFFSETTO:-0600
RDATE:20211107T020000
RDATE:20221106T020000
END:STANDARD
BEGIN:DAYLIGHT
TZNAME:CDT
DTSTART:20210314T020000
TZOFFSETFROM:-0600
TZOFFSETTO:-0500
RDATE:20220313T020000
RDATE:20230312T020000
END:DAYLIGHT
END:VTIMEZONE
BEGIN:VEVENT
UID:f9963ec0-ab78-417e-8eda-2825f5f77f17
DTSTAMP:20260424T054127Z
DESCRIPTION:This volunteer information session will explain what a CASA Vol
 unteer does and the steps required to become one.
DTSTART;TZID=America/Chicago:20210914T120000
DTEND;TZID=America/Chicago:20210914T123000
LOCATION:Email Volunteer Program Manager Lisa Martin to sign up.
SUMMARY:Volunteer Info Session
END:VEVENT
END:VCALENDAR
