BEGIN:VCALENDAR
VERSION:2.0
PRODID:-//casakc.org//NONSGML kigkonsult.se iCalcreator 2.30.10//
CALSCALE:GREGORIAN
METHOD:PUBLISH
UID:5735bc67-fc89-4468-b985-3af4c79a71c6
X-WR-CALDESC:This volunteer information session will explain what a CASA Vo
 lunteer does and the steps required to become one.
X-WR-RELCALID:cceb0e00bc7a95c393e2da7fafdc2162
X-WR-TIMEZONE:America/Chicago
BEGIN:VTIMEZONE
TZID:America/Chicago
BEGIN:STANDARD
TZNAME:CST
DTSTART:20201101T020000
TZOFFSETFROM:-0500
TZOFFSETTO:-0600
RDATE:20211107T020000
RDATE:20221106T020000
END:STANDARD
BEGIN:DAYLIGHT
TZNAME:CDT
DTSTART:20210314T020000
TZOFFSETFROM:-0600
TZOFFSETTO:-0500
RDATE:20220313T020000
RDATE:20230312T020000
END:DAYLIGHT
END:VTIMEZONE
BEGIN:VEVENT
UID:2e3fd64f-fb75-4dc0-9da5-4694ff4f4edd
DTSTAMP:20260424T053725Z
DESCRIPTION:This volunteer information session will explain what a CASA Vol
 unteer does and the steps required to become one.
DTSTART;TZID=America/Chicago:20210916T120000
DTEND;TZID=America/Chicago:20210916T123000
LOCATION:Email Volunteer Program Manager Lisa Martin to sign up.
SUMMARY:Volunteer Info Session
END:VEVENT
END:VCALENDAR
