BEGIN:VCALENDAR
VERSION:2.0
PRODID:-//casakc.org//NONSGML kigkonsult.se iCalcreator 2.30.10//
CALSCALE:GREGORIAN
METHOD:PUBLISH
UID:bcb8ab88-0eed-4ea6-802a-65dc9ec35bf9
X-WR-CALDESC:This volunteer information session will explain what a CASA Vo
 lunteer does and the steps required to become one.
X-WR-RELCALID:9907e99b7e02b9a0094a2f0ed65636e4
X-WR-TIMEZONE:America/Chicago
BEGIN:VTIMEZONE
TZID:America/Chicago
BEGIN:STANDARD
TZNAME:CST
DTSTART:20201101T020000
TZOFFSETFROM:-0500
TZOFFSETTO:-0600
RDATE:20211107T020000
RDATE:20221106T020000
END:STANDARD
BEGIN:DAYLIGHT
TZNAME:CDT
DTSTART:20210314T020000
TZOFFSETFROM:-0600
TZOFFSETTO:-0500
RDATE:20220313T020000
RDATE:20230312T020000
END:DAYLIGHT
END:VTIMEZONE
BEGIN:VEVENT
UID:f45dcc54-d7e2-4dac-b827-f21bebe4f6f2
DTSTAMP:20260424T053456Z
DESCRIPTION:This volunteer information session will explain what a CASA Vol
 unteer does and the steps required to become one.
DTSTART;TZID=America/Chicago:20210921T173000
DTEND;TZID=America/Chicago:20210921T180000
LOCATION:Email Volunteer Program Manager Lisa Martin to sign up.
SUMMARY:Volunteer Info Session
END:VEVENT
END:VCALENDAR
