BEGIN:VCALENDAR
VERSION:2.0
PRODID:-//casakc.org//NONSGML kigkonsult.se iCalcreator 2.30.10//
CALSCALE:GREGORIAN
METHOD:PUBLISH
UID:0486a664-52e6-48aa-b076-6c71fc146f09
X-WR-CALDESC:
X-WR-RELCALID:e48ae665f36df520f40a7a008c716e6c
X-WR-TIMEZONE:America/Chicago
BEGIN:VTIMEZONE
TZID:America/Chicago
BEGIN:STANDARD
TZNAME:CST
DTSTART:20201101T020000
TZOFFSETFROM:-0500
TZOFFSETTO:-0600
RDATE:20211107T020000
RDATE:20221106T020000
END:STANDARD
BEGIN:DAYLIGHT
TZNAME:CDT
DTSTART:20210314T020000
TZOFFSETFROM:-0600
TZOFFSETTO:-0500
RDATE:20220313T020000
RDATE:20230312T020000
END:DAYLIGHT
END:VTIMEZONE
BEGIN:VEVENT
UID:3bbfdf07-5e54-4885-9c70-501731fabfe1
DTSTAMP:20260424T054513Z
DESCRIPTION:
DTSTART;TZID=America/Chicago:20210927T170000
DTEND;TZID=America/Chicago:20210927T190000
LOCATION:
SUMMARY:Older Youth Workshop: Making Proud Choices
END:VEVENT
END:VCALENDAR
