BEGIN:VCALENDAR
VERSION:2.0
PRODID:-//casakc.org//NONSGML kigkonsult.se iCalcreator 2.30.10//
CALSCALE:GREGORIAN
METHOD:PUBLISH
UID:dac69467-1252-44a9-bd07-c2a88ca97c6a
X-WR-CALDESC:This volunteer information session will explain what a CASA Vo
 lunteer does and the steps required to become one.
X-WR-RELCALID:bbf6eaa950d7bb207cf994b6c9e1939b
X-WR-TIMEZONE:America/Chicago
BEGIN:VTIMEZONE
TZID:America/Chicago
BEGIN:STANDARD
TZNAME:CST
DTSTART:20201101T020000
TZOFFSETFROM:-0500
TZOFFSETTO:-0600
RDATE:20211107T020000
RDATE:20221106T020000
END:STANDARD
BEGIN:DAYLIGHT
TZNAME:CDT
DTSTART:20210314T020000
TZOFFSETFROM:-0600
TZOFFSETTO:-0500
RDATE:20220313T020000
RDATE:20230312T020000
END:DAYLIGHT
END:VTIMEZONE
BEGIN:VEVENT
UID:95a5e588-ea15-4e23-a7da-adb7dbb7ac97
DTSTAMP:20260424T054433Z
DESCRIPTION:This volunteer information session will explain what a CASA Vol
 unteer does and the steps required to become one.
DTSTART;TZID=America/Chicago:20210930T173000
DTEND;TZID=America/Chicago:20210930T180000
LOCATION:Email Volunteer Program Manager Lisa Martin to sign up.
SUMMARY:Volunteer Info Session
END:VEVENT
END:VCALENDAR
