BEGIN:VCALENDAR
VERSION:2.0
PRODID:-//casakc.org//NONSGML kigkonsult.se iCalcreator 2.30.10//
CALSCALE:GREGORIAN
METHOD:PUBLISH
UID:70a58d22-f6af-4e6e-9fdb-04063e6f6eb6
X-WR-CALDESC:Join us for a 30-minute online no obligation information sessi
 on about what it means to be a CASA Volunteer.  Attending an information s
 ession is a prerequisite for attending CASA Volunteer training.
X-WR-RELCALID:fbae5c5ebefb08c326b5de0d931f3b9a
X-WR-TIMEZONE:America/Chicago
BEGIN:VTIMEZONE
TZID:America/Chicago
BEGIN:STANDARD
TZNAME:CST
DTSTART:20201101T020000
TZOFFSETFROM:-0500
TZOFFSETTO:-0600
RDATE:20211107T020000
RDATE:20221106T020000
END:STANDARD
BEGIN:DAYLIGHT
TZNAME:CDT
DTSTART:20210314T020000
TZOFFSETFROM:-0600
TZOFFSETTO:-0500
RDATE:20220313T020000
RDATE:20230312T020000
END:DAYLIGHT
END:VTIMEZONE
BEGIN:VEVENT
UID:b27d317c-df72-44bc-a224-d31f86fa634f
DTSTAMP:20260424T042101Z
DESCRIPTION:Join us for a 30-minute online no obligation information sessio
 n about what it means to be a CASA Volunteer.  Attending an information se
 ssion is a prerequisite for attending CASA Volunteer training.
DTSTART;TZID=America/Chicago:20211013T173000
DTEND;TZID=America/Chicago:20211013T180000
LOCATION:https://www.jacksoncountycasa-mo.org/volunteer/pre-qualification-f
 orm.html
SUMMARY:Volunteer Info Session
END:VEVENT
END:VCALENDAR
