BEGIN:VCALENDAR
VERSION:2.0
PRODID:-//casakc.org//NONSGML kigkonsult.se iCalcreator 2.30.10//
CALSCALE:GREGORIAN
METHOD:PUBLISH
UID:5af44090-4525-4232-8507-a7badaf8c069
X-WR-CALDESC:
X-WR-RELCALID:59922ca17afa9de70fddae607ee64187
X-WR-TIMEZONE:America/Chicago
BEGIN:VTIMEZONE
TZID:America/Chicago
BEGIN:STANDARD
TZNAME:CST
DTSTART:20201101T020000
TZOFFSETFROM:-0500
TZOFFSETTO:-0600
RDATE:20211107T020000
RDATE:20221106T020000
END:STANDARD
BEGIN:DAYLIGHT
TZNAME:CDT
DTSTART:20210314T020000
TZOFFSETFROM:-0600
TZOFFSETTO:-0500
RDATE:20220313T020000
RDATE:20230312T020000
END:DAYLIGHT
END:VTIMEZONE
BEGIN:VEVENT
UID:49537c11-bcba-4927-bd51-62ff041b9080
DTSTAMP:20260424T043645Z
DESCRIPTION:
DTSTART;TZID=America/Chicago:20211019T170000
DTEND;TZID=America/Chicago:20211019T200000
LOCATION:
SUMMARY:Volunteer Training 3/5
END:VEVENT
END:VCALENDAR
