BEGIN:VCALENDAR
VERSION:2.0
PRODID:-//casakc.org//NONSGML kigkonsult.se iCalcreator 2.30.10//
CALSCALE:GREGORIAN
METHOD:PUBLISH
UID:e12c77f4-e4e9-478e-8eb4-97626bf040a9
X-WR-CALDESC:
X-WR-RELCALID:d7873e5157f0452dda5f673ade41e835
X-WR-TIMEZONE:America/Chicago
BEGIN:VTIMEZONE
TZID:America/Chicago
BEGIN:STANDARD
TZNAME:CST
DTSTART:20201101T020000
TZOFFSETFROM:-0500
TZOFFSETTO:-0600
RDATE:20211107T020000
RDATE:20221106T020000
END:STANDARD
BEGIN:DAYLIGHT
TZNAME:CDT
DTSTART:20210314T020000
TZOFFSETFROM:-0600
TZOFFSETTO:-0500
RDATE:20220313T020000
RDATE:20230312T020000
END:DAYLIGHT
END:VTIMEZONE
BEGIN:VEVENT
UID:da11dec2-f514-4aad-b1f0-8125ad63033b
DTSTAMP:20260424T043944Z
DESCRIPTION:
DTSTART;TZID=America/Chicago:20211022T120000
DTEND;TZID=America/Chicago:20211022T130000
LOCATION:
SUMMARY:Board Meeting
END:VEVENT
END:VCALENDAR
