BEGIN:VCALENDAR
VERSION:2.0
PRODID:-//casakc.org//NONSGML kigkonsult.se iCalcreator 2.30.10//
CALSCALE:GREGORIAN
METHOD:PUBLISH
UID:811fc283-2c11-4fa7-bb0c-a1d66715de75
X-WR-CALDESC:Join us for a 30-minute online no obligation information sessi
 on about what it means to be a CASA Volunteer.  Attending an information s
 ession is a prerequisite for attending CASA Volunteer training.
X-WR-RELCALID:2114b58857ba2418dc0126bf335134cb
X-WR-TIMEZONE:America/Chicago
BEGIN:VTIMEZONE
TZID:America/Chicago
BEGIN:STANDARD
TZNAME:CST
DTSTART:20201101T020000
TZOFFSETFROM:-0500
TZOFFSETTO:-0600
RDATE:20211107T020000
RDATE:20221106T020000
END:STANDARD
BEGIN:DAYLIGHT
TZNAME:CDT
DTSTART:20210314T020000
TZOFFSETFROM:-0600
TZOFFSETTO:-0500
RDATE:20220313T020000
RDATE:20230312T020000
END:DAYLIGHT
END:VTIMEZONE
BEGIN:VEVENT
UID:9eedb207-c78d-4cfd-b094-5c2180adb50d
DTSTAMP:20260424T042731Z
DESCRIPTION:Join us for a 30-minute online no obligation information sessio
 n about what it means to be a CASA Volunteer.  Attending an information se
 ssion is a prerequisite for attending CASA Volunteer training.
DTSTART;TZID=America/Chicago:20211028T173000
DTEND;TZID=America/Chicago:20211028T180000
LOCATION:https://www.jacksoncountycasa-mo.org/volunteer/pre-qualification-f
 orm.html
SUMMARY:Volunteer Info Session
END:VEVENT
END:VCALENDAR
