BEGIN:VCALENDAR
VERSION:2.0
PRODID:-//casakc.org//NONSGML kigkonsult.se iCalcreator 2.30.10//
CALSCALE:GREGORIAN
METHOD:PUBLISH
UID:d30cb52f-ea3c-4849-8803-0bbf152977ab
X-WR-CALDESC:
X-WR-RELCALID:b3dcb94b8dbc018a687e03a2f4729467
X-WR-TIMEZONE:America/Chicago
BEGIN:VTIMEZONE
TZID:America/Chicago
BEGIN:STANDARD
TZNAME:CST
DTSTART:20211107T020000
TZOFFSETFROM:-0500
TZOFFSETTO:-0600
RDATE:20221106T020000
END:STANDARD
BEGIN:DAYLIGHT
TZNAME:CDT
DTSTART:20210314T020000
TZOFFSETFROM:-0600
TZOFFSETTO:-0500
RDATE:20220313T020000
RDATE:20230312T020000
END:DAYLIGHT
END:VTIMEZONE
BEGIN:VEVENT
UID:25d954ec-ddee-4b25-988b-6df7c8819b07
DTSTAMP:20260424T030833Z
DESCRIPTION:
DTSTART;TZID=America/Chicago:20211119T120000
DTEND;TZID=America/Chicago:20211119T130000
LOCATION:
SUMMARY:Board Meeting
END:VEVENT
END:VCALENDAR
