BEGIN:VCALENDAR
VERSION:2.0
PRODID:-//casakc.org//NONSGML kigkonsult.se iCalcreator 2.30.10//
CALSCALE:GREGORIAN
METHOD:PUBLISH
UID:be2e7ec0-a58f-483e-8482-24cea877eec5
X-WR-CALDESC:Drop off Holiday Gifts for children served by CASA.  We are re
 ceiving gifts at Satchel Paige Elementary School\, 3301 E. 75th St\, Kansa
 s City\, MO 64132.
X-WR-RELCALID:67412b70bff0ad1036a89b3ed9fd983e
X-WR-TIMEZONE:America/Chicago
BEGIN:VTIMEZONE
TZID:America/Chicago
BEGIN:STANDARD
TZNAME:CST
DTSTART:20211107T020000
TZOFFSETFROM:-0500
TZOFFSETTO:-0600
RDATE:20221106T020000
END:STANDARD
BEGIN:DAYLIGHT
TZNAME:CDT
DTSTART:20210314T020000
TZOFFSETFROM:-0600
TZOFFSETTO:-0500
RDATE:20220313T020000
RDATE:20230312T020000
END:DAYLIGHT
END:VTIMEZONE
BEGIN:VEVENT
UID:81d2fd63-b405-48c8-80ed-1515dc6bf806
DTSTAMP:20260424T022112Z
DESCRIPTION:Drop off Holiday Gifts for children served by CASA.  We are rec
 eiving gifts at Satchel Paige Elementary School\, 3301 E. 75th St\, Kansas
  City\, MO 64132.
DTSTART;TZID=America/Chicago:20211208T090000
DTEND;TZID=America/Chicago:20211208T170000
LOCATION:
SUMMARY:Holiday Gift Drive Drop Off
END:VEVENT
END:VCALENDAR
