BEGIN:VCALENDAR
VERSION:2.0
PRODID:-//casakc.org//NONSGML kigkonsult.se iCalcreator 2.30.10//
CALSCALE:GREGORIAN
METHOD:PUBLISH
UID:13c68008-3555-4a25-ab60-1ecf545e0185
X-WR-CALDESC:Drop off Holiday Gifts for children served by CASA.  We are re
 ceiving gifts at Satchel Paige Elementary School\, 3301 E. 75th St\, Kansa
 s City\, MO 64132.
X-WR-RELCALID:1454cd621a98f86efaec340252fd127d
X-WR-TIMEZONE:America/Chicago
BEGIN:VTIMEZONE
TZID:America/Chicago
BEGIN:STANDARD
TZNAME:CST
DTSTART:20211107T020000
TZOFFSETFROM:-0500
TZOFFSETTO:-0600
RDATE:20221106T020000
END:STANDARD
BEGIN:DAYLIGHT
TZNAME:CDT
DTSTART:20210314T020000
TZOFFSETFROM:-0600
TZOFFSETTO:-0500
RDATE:20220313T020000
RDATE:20230312T020000
END:DAYLIGHT
END:VTIMEZONE
BEGIN:VEVENT
UID:e43d0ca3-1f4b-414c-8427-9183c0f0a4d3
DTSTAMP:20260424T020326Z
DESCRIPTION:Drop off Holiday Gifts for children served by CASA.  We are rec
 eiving gifts at Satchel Paige Elementary School\, 3301 E. 75th St\, Kansas
  City\, MO 64132.
DTSTART;TZID=America/Chicago:20211209T090000
DTEND;TZID=America/Chicago:20211209T170000
LOCATION:
SUMMARY:Holiday Gift Drive Drop Off
END:VEVENT
END:VCALENDAR
