BEGIN:VCALENDAR
VERSION:2.0
PRODID:-//casakc.org//NONSGML kigkonsult.se iCalcreator 2.30.10//
CALSCALE:GREGORIAN
METHOD:PUBLISH
UID:28c62a3d-6fd8-424a-8892-cd41501b5ead
X-WR-CALDESC:Drop off Holiday Gifts for children served by CASA.  We are re
 ceiving gifts at Satchel Paige Elementary School\, 3301 E. 75th St\, Kansa
 s City\, MO 64132.
X-WR-RELCALID:863826d1b4993cb9065e13d6c9f8b88e
X-WR-TIMEZONE:America/Chicago
BEGIN:VTIMEZONE
TZID:America/Chicago
BEGIN:STANDARD
TZNAME:CST
DTSTART:20211107T020000
TZOFFSETFROM:-0500
TZOFFSETTO:-0600
RDATE:20221106T020000
END:STANDARD
BEGIN:DAYLIGHT
TZNAME:CDT
DTSTART:20210314T020000
TZOFFSETFROM:-0600
TZOFFSETTO:-0500
RDATE:20220313T020000
RDATE:20230312T020000
END:DAYLIGHT
END:VTIMEZONE
BEGIN:VEVENT
UID:7dae5465-9bc1-432e-9fb2-3c079b94b98c
DTSTAMP:20260424T020458Z
DESCRIPTION:Drop off Holiday Gifts for children served by CASA.  We are rec
 eiving gifts at Satchel Paige Elementary School\, 3301 E. 75th St\, Kansas
  City\, MO 64132.
DTSTART;TZID=America/Chicago:20211210T090000
DTEND;TZID=America/Chicago:20211210T170000
LOCATION:
SUMMARY:Holiday Gift Drive Drop Off
END:VEVENT
END:VCALENDAR
