BEGIN:VCALENDAR
VERSION:2.0
PRODID:-//casakc.org//NONSGML kigkonsult.se iCalcreator 2.30.10//
CALSCALE:GREGORIAN
METHOD:PUBLISH
UID:1dc42273-4dd0-4169-a0fe-f7238a31a622
X-WR-CALDESC:
X-WR-RELCALID:704c6d4a6c9913d0befee46351d62276
X-WR-TIMEZONE:America/Chicago
BEGIN:VTIMEZONE
TZID:America/Chicago
BEGIN:STANDARD
TZNAME:CST
DTSTART:20211107T020000
TZOFFSETFROM:-0500
TZOFFSETTO:-0600
RDATE:20221106T020000
END:STANDARD
BEGIN:DAYLIGHT
TZNAME:CDT
DTSTART:20210314T020000
TZOFFSETFROM:-0600
TZOFFSETTO:-0500
RDATE:20220313T020000
RDATE:20230312T020000
END:DAYLIGHT
END:VTIMEZONE
BEGIN:VEVENT
UID:5d0d1e02-c6f8-4f81-8ed3-15e2259c12e5
DTSTAMP:20260424T015938Z
DESCRIPTION:
DTSTART;TZID=America/Chicago:20211217T120000
DTEND;TZID=America/Chicago:20211217T130000
LOCATION:
SUMMARY:Board Meeting
END:VEVENT
END:VCALENDAR
