BEGIN:VCALENDAR
VERSION:2.0
PRODID:-//casakc.org//NONSGML kigkonsult.se iCalcreator 2.30.10//
CALSCALE:GREGORIAN
METHOD:PUBLISH
UID:002e02f2-d9ed-4d78-8f87-a2f0da1fede5
X-WR-CALDESC:
X-WR-RELCALID:30a619fb27bd349fb26ed6b052b56dc4
X-WR-TIMEZONE:America/Chicago
BEGIN:VTIMEZONE
TZID:America/Chicago
BEGIN:STANDARD
TZNAME:CST
DTSTART:20211107T020000
TZOFFSETFROM:-0500
TZOFFSETTO:-0600
RDATE:20221106T020000
END:STANDARD
BEGIN:DAYLIGHT
TZNAME:CDT
DTSTART:20210314T020000
TZOFFSETFROM:-0600
TZOFFSETTO:-0500
RDATE:20220313T020000
RDATE:20230312T020000
END:DAYLIGHT
END:VTIMEZONE
BEGIN:VEVENT
UID:0b5a5a68-7c3e-49b4-8daa-86ff14bfd6c0
DTSTAMP:20260424T015715Z
DESCRIPTION:
DTSTART;TZID=America/Chicago:20211224T000000
DTEND;TZID=America/Chicago:20211224T235900
LOCATION:
SUMMARY:CASA Office Closed
END:VEVENT
END:VCALENDAR
