BEGIN:VCALENDAR
VERSION:2.0
PRODID:-//casakc.org//NONSGML kigkonsult.se iCalcreator 2.30.10//
CALSCALE:GREGORIAN
METHOD:PUBLISH
UID:aba8d24f-549d-4226-ad24-ea97f14f519a
X-WR-CALDESC:
X-WR-RELCALID:a56323bff4ff0adfbb881034151d0578
X-WR-TIMEZONE:America/Chicago
BEGIN:VTIMEZONE
TZID:America/Chicago
BEGIN:STANDARD
TZNAME:CST
DTSTART:20211107T020000
TZOFFSETFROM:-0500
TZOFFSETTO:-0600
RDATE:20221106T020000
END:STANDARD
BEGIN:DAYLIGHT
TZNAME:CDT
DTSTART:20210314T020000
TZOFFSETFROM:-0600
TZOFFSETTO:-0500
RDATE:20220313T020000
RDATE:20230312T020000
END:DAYLIGHT
END:VTIMEZONE
BEGIN:VEVENT
UID:2bc4b3d3-5878-487b-9418-c3c1dd94a01f
DTSTAMP:20260424T015147Z
DESCRIPTION:
DTSTART;TZID=America/Chicago:20211231T000000
DTEND;TZID=America/Chicago:20211231T235900
LOCATION:
SUMMARY:CASA Office Closed
END:VEVENT
END:VCALENDAR
