BEGIN:VCALENDAR
VERSION:2.0
PRODID:-//casakc.org//NONSGML kigkonsult.se iCalcreator 2.30.10//
CALSCALE:GREGORIAN
METHOD:PUBLISH
UID:d4a24356-a00e-4e6e-94af-96098f0cace1
X-WR-CALDESC:Join us for a 30-minute online no obligation information sessi
 on about what it means to be a CASA volunteer. Attending an information se
 ssion is a prerequisite for attending CASA Volunteer Training.\n\nRegister
  now to receive the Zoom link for this session or email Volunteer Speciali
 st Kara Strickler at kstrickler@jacksoncountycasa-mo.org.
X-WR-RELCALID:ca1f63c947882856a6a9904d32723ca2
X-WR-TIMEZONE:America/Chicago
BEGIN:VTIMEZONE
TZID:America/Chicago
BEGIN:STANDARD
TZNAME:CST
DTSTART:20211107T020000
TZOFFSETFROM:-0500
TZOFFSETTO:-0600
RDATE:20221106T020000
END:STANDARD
BEGIN:DAYLIGHT
TZNAME:CDT
DTSTART:20210314T020000
TZOFFSETFROM:-0600
TZOFFSETTO:-0500
RDATE:20220313T020000
RDATE:20230312T020000
END:DAYLIGHT
END:VTIMEZONE
BEGIN:VEVENT
UID:1520ee3f-ec3b-497e-a0b4-06be48685f08
DTSTAMP:20260423T225237Z
DESCRIPTION:Join us for a 30-minute online no obligation information sessio
 n about what it means to be a CASA volunteer. Attending an information ses
 sion is a prerequisite for attending CASA Volunteer Training.\n\nRegister 
 now to receive the Zoom link for this session or email Volunteer Specialis
 t Kara Strickler at kstrickler@jacksoncountycasa-mo.org.
DTSTART;TZID=America/Chicago:20220209T120000
DTEND;TZID=America/Chicago:20220209T123000
LOCATION:
SUMMARY:Volunteer Info Session
END:VEVENT
END:VCALENDAR
