BEGIN:VCALENDAR
VERSION:2.0
PRODID:-//casakc.org//NONSGML kigkonsult.se iCalcreator 2.30.10//
CALSCALE:GREGORIAN
METHOD:PUBLISH
UID:df937540-587d-41a0-b7c6-07e5d7adb234
X-WR-CALDESC:Join Jackson County CASA for a Volunteer Roundtable! Volunteer
  Roundtables are an opportunity to learn from and get to know CASA staff a
 nd ask any questions. The first roundtable of 2022 is Wednesday\, February
  9 from 5:30-6:30PM. It will focus on volunteer roles and responsibilities
 \, including information on interactions with Children's Division and prof
 essionals\, Optima\, visits with children\, and boundaries. It will be hos
 ted by Case Supervisors Elisabeth Lee and Michael Hunt\, and Attorneys Kat
 ie Wiehl and Anika Hickman.
X-WR-RELCALID:823e5ee992f90feea2961b8757423fcd
X-WR-TIMEZONE:America/Chicago
BEGIN:VTIMEZONE
TZID:America/Chicago
BEGIN:STANDARD
TZNAME:CST
DTSTART:20211107T020000
TZOFFSETFROM:-0500
TZOFFSETTO:-0600
RDATE:20221106T020000
END:STANDARD
BEGIN:DAYLIGHT
TZNAME:CDT
DTSTART:20210314T020000
TZOFFSETFROM:-0600
TZOFFSETTO:-0500
RDATE:20220313T020000
RDATE:20230312T020000
END:DAYLIGHT
END:VTIMEZONE
BEGIN:VEVENT
UID:b34e6f86-c978-439d-94bf-7a03da37bfb0
DTSTAMP:20260423T225632Z
DESCRIPTION:Join Jackson County CASA for a Volunteer Roundtable! Volunteer 
 Roundtables are an opportunity to learn from and get to know CASA staff an
 d ask any questions. The first roundtable of 2022 is Wednesday\, February 
 9 from 5:30-6:30PM. It will focus on volunteer roles and responsibilities\
 , including information on interactions with Children's Division and profe
 ssionals\, Optima\, visits with children\, and boundaries. It will be host
 ed by Case Supervisors Elisabeth Lee and Michael Hunt\, and Attorneys Kati
 e Wiehl and Anika Hickman.
DTSTART;TZID=America/Chicago:20220209T173000
DTEND;TZID=America/Chicago:20220209T183000
LOCATION:
SUMMARY:Volunteer Roundtable: Roles and Responsibilities
END:VEVENT
END:VCALENDAR
