BEGIN:VCALENDAR
VERSION:2.0
PRODID:-//casakc.org//NONSGML kigkonsult.se iCalcreator 2.30.10//
CALSCALE:GREGORIAN
METHOD:PUBLISH
UID:c13a541e-8ca4-400f-8f44-454b5ce671d8
X-WR-CALDESC:
X-WR-RELCALID:ceaf97f8e2ee9d13769b12cae3b876ea
X-WR-TIMEZONE:America/Chicago
BEGIN:VTIMEZONE
TZID:America/Chicago
BEGIN:STANDARD
TZNAME:CST
DTSTART:20211107T020000
TZOFFSETFROM:-0500
TZOFFSETTO:-0600
RDATE:20221106T020000
END:STANDARD
BEGIN:DAYLIGHT
TZNAME:CDT
DTSTART:20210314T020000
TZOFFSETFROM:-0600
TZOFFSETTO:-0500
RDATE:20220313T020000
RDATE:20230312T020000
END:DAYLIGHT
END:VTIMEZONE
BEGIN:VEVENT
UID:4e7b4674-6c09-48a7-9452-acf918d777ef
DTSTAMP:20260423T231602Z
DESCRIPTION:
DTSTART;TZID=America/Chicago:20220221T000000
DTEND;TZID=America/Chicago:20220221T235900
LOCATION:
SUMMARY:Presidents' Day CASA Office Closed
END:VEVENT
END:VCALENDAR
