BEGIN:VCALENDAR
VERSION:2.0
PRODID:-//casakc.org//NONSGML kigkonsult.se iCalcreator 2.30.10//
CALSCALE:GREGORIAN
METHOD:PUBLISH
UID:f8b3b888-f5f1-469f-aa57-c729bc1db4c1
X-WR-CALDESC:
X-WR-RELCALID:e447ae3bfabf837ae5f1ce597615373b
X-WR-TIMEZONE:America/Chicago
BEGIN:VTIMEZONE
TZID:America/Chicago
BEGIN:STANDARD
TZNAME:CST
DTSTART:20211107T020000
TZOFFSETFROM:-0500
TZOFFSETTO:-0600
RDATE:20221106T020000
END:STANDARD
BEGIN:DAYLIGHT
TZNAME:CDT
DTSTART:20210314T020000
TZOFFSETFROM:-0600
TZOFFSETTO:-0500
RDATE:20220313T020000
RDATE:20230312T020000
END:DAYLIGHT
END:VTIMEZONE
BEGIN:VEVENT
UID:e52e5b3c-22ab-4e63-9eee-65f24dfae387
DTSTAMP:20260423T225906Z
DESCRIPTION:
DTSTART;TZID=America/Chicago:20220225T120000
DTEND;TZID=America/Chicago:20220225T130000
LOCATION:
SUMMARY:Board Meeting
END:VEVENT
END:VCALENDAR
