BEGIN:VCALENDAR
VERSION:2.0
PRODID:-//casakc.org//NONSGML kigkonsult.se iCalcreator 2.30.10//
CALSCALE:GREGORIAN
METHOD:PUBLISH
UID:dbcddc0e-9f39-4ca5-9037-895628e093ed
X-WR-CALDESC:All CASA Volunteers must complete Volunteer Training prior to 
 being assigned to a case. To learn about the role and requirements of bein
 g a CASA Volunteer and to sign up to attend an Info Session\, which is a p
 rerequisite to Volunteer Training\, visit https://www.jacksoncountycasa-mo
 .org/volunteer/.
X-WR-RELCALID:db26f320063a500b0340e9e07f3142fa
X-WR-TIMEZONE:America/Chicago
BEGIN:VTIMEZONE
TZID:America/Chicago
BEGIN:STANDARD
TZNAME:CST
DTSTART:20211107T020000
TZOFFSETFROM:-0500
TZOFFSETTO:-0600
RDATE:20221106T020000
END:STANDARD
BEGIN:DAYLIGHT
TZNAME:CDT
DTSTART:20220313T020000
TZOFFSETFROM:-0600
TZOFFSETTO:-0500
RDATE:20230312T020000
END:DAYLIGHT
END:VTIMEZONE
BEGIN:VEVENT
UID:2a1f6719-a42a-4a6e-9097-0951aacbbb07
DTSTAMP:20260423T205721Z
DESCRIPTION:All CASA Volunteers must complete Volunteer Training prior to b
 eing assigned to a case. To learn about the role and requirements of being
  a CASA Volunteer and to sign up to attend an Info Session\, which is a pr
 erequisite to Volunteer Training\, visit https://www.jacksoncountycasa-mo.
 org/volunteer/.
DTSTART;TZID=America/Chicago:20220321T170000
DTEND;TZID=America/Chicago:20220321T200000
LOCATION:
SUMMARY:Volunteer Training
END:VEVENT
END:VCALENDAR
