BEGIN:VCALENDAR
VERSION:2.0
PRODID:-//casakc.org//NONSGML kigkonsult.se iCalcreator 2.30.10//
CALSCALE:GREGORIAN
METHOD:PUBLISH
UID:1948938d-6eff-47ad-bafb-1822a61e6ccb
X-WR-CALDESC:Join Jackson County CASA staff and volunteers to learn the ins
  and outs of CASA\, beyond what we cover in the initial volunteer training
 . We will look at our mission\, funding\, special events\, and more.\n\nCA
 SA Volunteers can find the Zoom link in the Volunteer Newsletter or can em
 ail kstrickler@jacksoncountycasa-mo.org for more information.
X-WR-RELCALID:f37496aa03573ad8f8d5d28fe13f289c
X-WR-TIMEZONE:America/Chicago
BEGIN:VTIMEZONE
TZID:America/Chicago
BEGIN:STANDARD
TZNAME:CST
DTSTART:20211107T020000
TZOFFSETFROM:-0500
TZOFFSETTO:-0600
RDATE:20221106T020000
END:STANDARD
BEGIN:DAYLIGHT
TZNAME:CDT
DTSTART:20220313T020000
TZOFFSETFROM:-0600
TZOFFSETTO:-0500
RDATE:20230312T020000
END:DAYLIGHT
END:VTIMEZONE
BEGIN:VEVENT
UID:2c7b8a73-11ed-4338-bd03-348d0fa7924c
DTSTAMP:20260420T203302Z
DESCRIPTION:Join Jackson County CASA staff and volunteers to learn the ins 
 and outs of CASA\, beyond what we cover in the initial volunteer training.
  We will look at our mission\, funding\, special events\, and more.\n\nCAS
 A Volunteers can find the Zoom link in the Volunteer Newsletter or can ema
 il kstrickler@jacksoncountycasa-mo.org for more information.
DTSTART;TZID=America/Chicago:20220323T120000
DTEND;TZID=America/Chicago:20220323T130000
LOCATION:
SUMMARY:CASA 101
END:VEVENT
END:VCALENDAR
