BEGIN:VCALENDAR
VERSION:2.0
PRODID:-//casakc.org//NONSGML kigkonsult.se iCalcreator 2.30.10//
CALSCALE:GREGORIAN
METHOD:PUBLISH
UID:0a2f205e-e644-41a0-a2a8-322edd3a64f6
X-WR-CALDESC:Come shop for a cause at Evereve boutique on the Country Club 
 Plaza on March 24th from 10:00 a.m. to 7:00 p.m.  Evereve will generously 
 donate a portion of the day's sales to Jackson County CASA.
X-WR-RELCALID:da26d9179c5a89d586550a3b3218c746
X-WR-TIMEZONE:America/Chicago
BEGIN:VTIMEZONE
TZID:America/Chicago
BEGIN:STANDARD
TZNAME:CST
DTSTART:20211107T020000
TZOFFSETFROM:-0500
TZOFFSETTO:-0600
RDATE:20221106T020000
END:STANDARD
BEGIN:DAYLIGHT
TZNAME:CDT
DTSTART:20220313T020000
TZOFFSETFROM:-0600
TZOFFSETTO:-0500
RDATE:20230312T020000
END:DAYLIGHT
END:VTIMEZONE
BEGIN:VEVENT
UID:923d05c9-897e-421c-bb52-a578f81530c2
DTSTAMP:20260423T211055Z
DESCRIPTION:Come shop for a cause at Evereve boutique on the Country Club P
 laza on March 24th from 10:00 a.m. to 7:00 p.m.  Evereve will generously d
 onate a portion of the day's sales to Jackson County CASA.
DTSTART;TZID=America/Chicago:20220324T100000
DTEND;TZID=America/Chicago:20220324T190000
LOCATION:225 W. 47th Street\, Kansas City\, MO 64112 US
SUMMARY:Evereve Fashion Fundraiser
END:VEVENT
END:VCALENDAR
