BEGIN:VCALENDAR
VERSION:2.0
PRODID:-//casakc.org//NONSGML kigkonsult.se iCalcreator 2.30.10//
CALSCALE:GREGORIAN
METHOD:PUBLISH
UID:96155e3a-af13-4781-a714-ab3e87446476
X-WR-CALDESC:Join this upcoming continuing education opportunity on Thursda
 y\, March 31 from 5:30-7:30 p.m. The virtual presentation will be led by K
 aty Perry from FosterAdopt Connect\, which works with children\, youth\, a
 nd families as they navigate the complexities of the child welfare system.
  We will learn about FosterAdopt Connect's recritment programs\, 30 Days t
 o Family and Extreme Family Finding. Email lmartin@jacksoncountycasa-mo.or
 g for the Zoom link to attend.
X-WR-RELCALID:8fd41fb29bbe4554b0e1ef446c160c36
X-WR-TIMEZONE:America/Chicago
BEGIN:VTIMEZONE
TZID:America/Chicago
BEGIN:STANDARD
TZNAME:CST
DTSTART:20211107T020000
TZOFFSETFROM:-0500
TZOFFSETTO:-0600
RDATE:20221106T020000
END:STANDARD
BEGIN:DAYLIGHT
TZNAME:CDT
DTSTART:20220313T020000
TZOFFSETFROM:-0600
TZOFFSETTO:-0500
RDATE:20230312T020000
END:DAYLIGHT
END:VTIMEZONE
BEGIN:VEVENT
UID:6bda7f61-ef6a-4c86-907b-5ee2f3831d84
DTSTAMP:20260423T211238Z
DESCRIPTION:Join this upcoming continuing education opportunity on Thursday
 \, March 31 from 5:30-7:30 p.m. The virtual presentation will be led by Ka
 ty Perry from FosterAdopt Connect\, which works with children\, youth\, an
 d families as they navigate the complexities of the child welfare system. 
 We will learn about FosterAdopt Connect's recritment programs\, 30 Days to
  Family and Extreme Family Finding. Email lmartin@jacksoncountycasa-mo.org
  for the Zoom link to attend.
DTSTART;TZID=America/Chicago:20220331T173000
DTEND;TZID=America/Chicago:20220331T193000
LOCATION:
SUMMARY:FosterAdopt Connect Continuing Education
END:VEVENT
END:VCALENDAR
