BEGIN:VCALENDAR
VERSION:2.0
PRODID:-//casakc.org//NONSGML kigkonsult.se iCalcreator 2.30.10//
CALSCALE:GREGORIAN
METHOD:PUBLISH
UID:f6bee27e-d087-4afe-9299-8f061a132c7b
X-WR-CALDESC:
X-WR-RELCALID:9b7511904e0ee40942c866533e042ea4
X-WR-TIMEZONE:America/Chicago
BEGIN:VTIMEZONE
TZID:America/Chicago
BEGIN:STANDARD
TZNAME:CST
DTSTART:20211107T020000
TZOFFSETFROM:-0500
TZOFFSETTO:-0600
RDATE:20221106T020000
END:STANDARD
BEGIN:DAYLIGHT
TZNAME:CDT
DTSTART:20220313T020000
TZOFFSETFROM:-0600
TZOFFSETTO:-0500
RDATE:20230312T020000
END:DAYLIGHT
END:VTIMEZONE
BEGIN:VEVENT
UID:9bc45e58-46fd-4b55-9773-65bc603331c5
DTSTAMP:20260423T194928Z
DESCRIPTION:
DTSTART;TZID=America/Chicago:20220413T070000
DTEND;TZID=America/Chicago:20220413T083000
LOCATION:Sheraton at Crown Center
SUMMARY:Light of Hope breakfast
END:VEVENT
END:VCALENDAR
