BEGIN:VCALENDAR
VERSION:2.0
PRODID:-//casakc.org//NONSGML kigkonsult.se iCalcreator 2.30.10//
CALSCALE:GREGORIAN
METHOD:PUBLISH
UID:f237be3b-db6c-4c39-a4c2-84f94cf4dc3f
X-WR-CALDESC:
X-WR-RELCALID:7ded0d6761d32c84c62fa63a8e6f44b5
X-WR-TIMEZONE:America/Chicago
BEGIN:VTIMEZONE
TZID:America/Chicago
BEGIN:STANDARD
TZNAME:CST
DTSTART:20211107T020000
TZOFFSETFROM:-0500
TZOFFSETTO:-0600
RDATE:20221106T020000
END:STANDARD
BEGIN:DAYLIGHT
TZNAME:CDT
DTSTART:20220313T020000
TZOFFSETFROM:-0600
TZOFFSETTO:-0500
RDATE:20230312T020000
END:DAYLIGHT
END:VTIMEZONE
BEGIN:VEVENT
UID:dc636653-ca91-4595-8388-2f87db2cc768
DTSTAMP:20260423T194715Z
DESCRIPTION:
DTSTART;TZID=America/Chicago:20220422T120000
DTEND;TZID=America/Chicago:20220422T130000
LOCATION:
SUMMARY:Board Meeting
END:VEVENT
END:VCALENDAR
