BEGIN:VCALENDAR
VERSION:2.0
PRODID:-//casakc.org//NONSGML kigkonsult.se iCalcreator 2.30.10//
CALSCALE:GREGORIAN
METHOD:PUBLISH
UID:33f76084-35b0-427a-a235-65d913a3fd17
X-WR-CALDESC:
X-WR-RELCALID:f3aef6df33767570cf6550d36cea01be
X-WR-TIMEZONE:America/Chicago
BEGIN:VTIMEZONE
TZID:America/Chicago
BEGIN:STANDARD
TZNAME:CST
DTSTART:20211107T020000
TZOFFSETFROM:-0500
TZOFFSETTO:-0600
RDATE:20221106T020000
RDATE:20231105T020000
END:STANDARD
BEGIN:DAYLIGHT
TZNAME:CDT
DTSTART:20220313T020000
TZOFFSETFROM:-0600
TZOFFSETTO:-0500
RDATE:20230312T020000
END:DAYLIGHT
END:VTIMEZONE
BEGIN:VEVENT
UID:d7f3503d-d71f-4166-9c54-a7c7d2e01985
DTSTAMP:20260423T182003Z
DESCRIPTION:
DTSTART;TZID=America/Chicago:20220530T000000
DTEND;TZID=America/Chicago:20220530T235900
LOCATION:
SUMMARY:Memorial Day CASA Office Closed
END:VEVENT
END:VCALENDAR
