BEGIN:VCALENDAR
VERSION:2.0
PRODID:-//casakc.org//NONSGML kigkonsult.se iCalcreator 2.30.10//
CALSCALE:GREGORIAN
METHOD:PUBLISH
UID:6ca90fdd-2868-4e0b-ac2b-197ef7e9f5e7
X-WR-CALDESC:Join us for a 30-minute online no obligation information sessi
 on about what it means to be a CASA volunteer. Attending an information se
 ssion is a prerequisite for attending CASA Volunteer Training.\n\nTo regis
 ter for this info session\, email Volunteer Specialist Kara Strickler at k
 strickler@jacksoncountycasa-mo.org.
X-WR-RELCALID:76c5e7ca590e8f8bd0b35dd538cc6969
X-WR-TIMEZONE:America/Chicago
BEGIN:VTIMEZONE
TZID:America/Chicago
BEGIN:STANDARD
TZNAME:CST
DTSTART:20211107T020000
TZOFFSETFROM:-0500
TZOFFSETTO:-0600
RDATE:20221106T020000
RDATE:20231105T020000
END:STANDARD
BEGIN:DAYLIGHT
TZNAME:CDT
DTSTART:20220313T020000
TZOFFSETFROM:-0600
TZOFFSETTO:-0500
RDATE:20230312T020000
END:DAYLIGHT
END:VTIMEZONE
BEGIN:VEVENT
UID:b9bcabc8-e7e0-40dd-b073-878f27038ef9
DTSTAMP:20260423T163102Z
DESCRIPTION:Join us for a 30-minute online no obligation information sessio
 n about what it means to be a CASA volunteer. Attending an information ses
 sion is a prerequisite for attending CASA Volunteer Training.\n\nTo regist
 er for this info session\, email Volunteer Specialist Kara Strickler at ks
 trickler@jacksoncountycasa-mo.org.
DTSTART;TZID=America/Chicago:20220602T173000
DTEND;TZID=America/Chicago:20220602T180000
LOCATION:
SUMMARY:Volunteer Info Session
END:VEVENT
END:VCALENDAR
