BEGIN:VCALENDAR
VERSION:2.0
PRODID:-//casakc.org//NONSGML kigkonsult.se iCalcreator 2.30.10//
CALSCALE:GREGORIAN
METHOD:PUBLISH
UID:d5a8f1bf-ad0b-494a-8cdf-228ccca13835
X-WR-CALDESC:Join us for a 30-minute online no obligation information sessi
 on about what it means to be a CASA volunteer. Attending an information se
 ssion is a prerequisite for attending CASA Volunteer Training.\n\nTo regis
 ter for this info session\, email Volunteer Specialist Kara Strickler at k
 strickler@jacksoncountycasa-mo.org or click the Register Now button above.
X-WR-RELCALID:4a9ae76d1d08b1804ed1a201830fc6c2
X-WR-TIMEZONE:America/Chicago
BEGIN:VTIMEZONE
TZID:America/Chicago
BEGIN:STANDARD
TZNAME:CST
DTSTART:20211107T020000
TZOFFSETFROM:-0500
TZOFFSETTO:-0600
RDATE:20221106T020000
RDATE:20231105T020000
END:STANDARD
BEGIN:DAYLIGHT
TZNAME:CDT
DTSTART:20220313T020000
TZOFFSETFROM:-0600
TZOFFSETTO:-0500
RDATE:20230312T020000
END:DAYLIGHT
END:VTIMEZONE
BEGIN:VEVENT
UID:19eb4fbe-a4d5-4749-8e8f-a5d3c1d2d2f9
DTSTAMP:20260423T164723Z
DESCRIPTION:Join us for a 30-minute online no obligation information sessio
 n about what it means to be a CASA volunteer. Attending an information ses
 sion is a prerequisite for attending CASA Volunteer Training.\n\nTo regist
 er for this info session\, email Volunteer Specialist Kara Strickler at ks
 trickler@jacksoncountycasa-mo.org or click the Register Now button above.
DTSTART;TZID=America/Chicago:20220629T173000
DTEND;TZID=America/Chicago:20220629T180000
LOCATION:Online via Zoom
SUMMARY:Volunteer Info Session
END:VEVENT
END:VCALENDAR
