BEGIN:VCALENDAR
VERSION:2.0
PRODID:-//casakc.org//NONSGML kigkonsult.se iCalcreator 2.30.10//
CALSCALE:GREGORIAN
METHOD:PUBLISH
UID:b7ee5c3e-4887-4ce0-9c11-204515c583a9
X-WR-CALDESC:
X-WR-RELCALID:912286cd5a031d42d52de17aa3a297f3
X-WR-TIMEZONE:America/Chicago
BEGIN:VTIMEZONE
TZID:America/Chicago
BEGIN:STANDARD
TZNAME:CST
DTSTART:20211107T020000
TZOFFSETFROM:-0500
TZOFFSETTO:-0600
RDATE:20221106T020000
RDATE:20231105T020000
END:STANDARD
BEGIN:DAYLIGHT
TZNAME:CDT
DTSTART:20220313T020000
TZOFFSETFROM:-0600
TZOFFSETTO:-0500
RDATE:20230312T020000
END:DAYLIGHT
END:VTIMEZONE
BEGIN:VEVENT
UID:61f0e395-40aa-4e2d-9f22-673f0d3243b4
DTSTAMP:20260423T144020Z
DESCRIPTION:
DTSTART;TZID=America/Chicago:20220722T120000
DTEND;TZID=America/Chicago:20220722T130000
LOCATION:
SUMMARY:Board Meeting
END:VEVENT
END:VCALENDAR
