BEGIN:VCALENDAR
VERSION:2.0
PRODID:-//casakc.org//NONSGML kigkonsult.se iCalcreator 2.30.10//
CALSCALE:GREGORIAN
METHOD:PUBLISH
UID:19e51514-7de1-48e5-bc6d-08219c572ff6
X-WR-CALDESC:
X-WR-RELCALID:27e6f924ccc1346de622664acb30f08c
X-WR-TIMEZONE:America/Chicago
BEGIN:VTIMEZONE
TZID:America/Chicago
BEGIN:STANDARD
TZNAME:CST
DTSTART:20211107T020000
TZOFFSETFROM:-0500
TZOFFSETTO:-0600
RDATE:20221106T020000
RDATE:20231105T020000
END:STANDARD
BEGIN:DAYLIGHT
TZNAME:CDT
DTSTART:20220313T020000
TZOFFSETFROM:-0600
TZOFFSETTO:-0500
RDATE:20230312T020000
END:DAYLIGHT
END:VTIMEZONE
BEGIN:VEVENT
UID:0ace504f-eedb-4fcd-8d84-e040f73c3703
DTSTAMP:20260423T130906Z
DESCRIPTION:
DTSTART;TZID=America/Chicago:20220817T150000
DTEND;TZID=America/Chicago:20220817T180000
LOCATION:2700 Guinotte Ave\, Kansas City\, MO 64120 US
SUMMARY:Over the Hump Day Happy Hour
END:VEVENT
END:VCALENDAR
