BEGIN:VCALENDAR
VERSION:2.0
PRODID:-//casakc.org//NONSGML kigkonsult.se iCalcreator 2.30.10//
CALSCALE:GREGORIAN
METHOD:PUBLISH
UID:ee84fc13-d7f7-4f4c-a9bb-feeddcabb76d
X-WR-CALDESC:
X-WR-RELCALID:278d6cf4523b60440dac50bf4854d90b
X-WR-TIMEZONE:America/Chicago
BEGIN:VTIMEZONE
TZID:America/Chicago
BEGIN:STANDARD
TZNAME:CST
DTSTART:20211107T020000
TZOFFSETFROM:-0500
TZOFFSETTO:-0600
RDATE:20221106T020000
RDATE:20231105T020000
END:STANDARD
BEGIN:DAYLIGHT
TZNAME:CDT
DTSTART:20220313T020000
TZOFFSETFROM:-0600
TZOFFSETTO:-0500
RDATE:20230312T020000
END:DAYLIGHT
END:VTIMEZONE
BEGIN:VEVENT
UID:39be36fb-dcc3-410c-b64d-e1ca8e781b65
DTSTAMP:20260423T125222Z
DESCRIPTION:
DTSTART;TZID=America/Chicago:20220830T120000
DTEND;TZID=America/Chicago:20220830T130000
LOCATION:
SUMMARY:CASA 101
END:VEVENT
END:VCALENDAR
