BEGIN:VCALENDAR
VERSION:2.0
PRODID:-//casakc.org//NONSGML kigkonsult.se iCalcreator 2.30.10//
CALSCALE:GREGORIAN
METHOD:PUBLISH
UID:f2e7482d-59e2-4b56-a288-a406aa28f033
X-WR-CALDESC:
X-WR-RELCALID:43077f7060fbf951fd84bd6ce90b5a81
X-WR-TIMEZONE:America/Chicago
BEGIN:VTIMEZONE
TZID:America/Chicago
BEGIN:STANDARD
TZNAME:CST
DTSTART:20211107T020000
TZOFFSETFROM:-0500
TZOFFSETTO:-0600
RDATE:20221106T020000
RDATE:20231105T020000
END:STANDARD
BEGIN:DAYLIGHT
TZNAME:CDT
DTSTART:20220313T020000
TZOFFSETFROM:-0600
TZOFFSETTO:-0500
RDATE:20230312T020000
RDATE:20240310T020000
END:DAYLIGHT
END:VTIMEZONE
BEGIN:VEVENT
UID:559c5ebb-b243-42f2-a03f-c2781eeb2926
DTSTAMP:20260423T094806Z
DESCRIPTION:
DTSTART;TZID=America/Chicago:20221028T120000
DTEND;TZID=America/Chicago:20221028T130000
LOCATION:
SUMMARY:Board Meeting
END:VEVENT
END:VCALENDAR
