BEGIN:VCALENDAR
VERSION:2.0
PRODID:-//casakc.org//NONSGML kigkonsult.se iCalcreator 2.30.10//
CALSCALE:GREGORIAN
METHOD:PUBLISH
UID:ee3fadfb-19ee-4138-9937-8ee62d5894f5
X-WR-CALDESC:CASA Volunteers are invited to participate in a facility tour 
 of one of our community partner organizations: The Children's Place. The C
 hildren's Place works to pursue\, find\, and celebrate healing for young c
 hildren in our community who have faced trauma\, enabling children to lead
  happy\, healthy\, hopeful lives. They offer assessments and screenings\, 
 individual and family therapy services\, family support\, and day treatmen
 t. \n\nThis tour is limited to 15 people. If this tour is full and you wou
 ld still like to tour The Children's Place\, please email Volunteer Specia
 list Kara Strickler at kstrickler@jacksoncountycasa-mo.org so we can sched
 ule another tour opportunity.
X-WR-RELCALID:f9fffaf199f27d5cba5b33406ff837ca
X-WR-TIMEZONE:America/Chicago
BEGIN:VTIMEZONE
TZID:America/Chicago
BEGIN:STANDARD
TZNAME:CST
DTSTART:20221106T020000
TZOFFSETFROM:-0500
TZOFFSETTO:-0600
RDATE:20231105T020000
END:STANDARD
BEGIN:DAYLIGHT
TZNAME:CDT
DTSTART:20220313T020000
TZOFFSETFROM:-0600
TZOFFSETTO:-0500
RDATE:20230312T020000
RDATE:20240310T020000
END:DAYLIGHT
END:VTIMEZONE
BEGIN:VEVENT
UID:603a4cb2-49bb-40a5-9a5d-deaff76b0163
DTSTAMP:20260423T082111Z
DESCRIPTION:CASA Volunteers are invited to participate in a facility tour o
 f one of our community partner organizations: The Children's Place. The Ch
 ildren's Place works to pursue\, find\, and celebrate healing for young ch
 ildren in our community who have faced trauma\, enabling children to lead 
 happy\, healthy\, hopeful lives. They offer assessments and screenings\, i
 ndividual and family therapy services\, family support\, and day treatment
 . \n\nThis tour is limited to 15 people. If this tour is full and you woul
 d still like to tour The Children's Place\, please email Volunteer Special
 ist Kara Strickler at kstrickler@jacksoncountycasa-mo.org so we can schedu
 le another tour opportunity.
DTSTART;TZID=America/Chicago:20221117T173000
DTEND;TZID=America/Chicago:20221117T183000
LOCATION:
SUMMARY:The Children's Place Tour for CASA Volunteers
END:VEVENT
END:VCALENDAR
