BEGIN:VCALENDAR
VERSION:2.0
PRODID:-//casakc.org//NONSGML kigkonsult.se iCalcreator 2.30.10//
CALSCALE:GREGORIAN
METHOD:PUBLISH
UID:09f8e8b2-6c7a-4513-9085-a672e8bf7fd6
X-WR-CALDESC:
X-WR-RELCALID:b2c2ae576363a5c3b5657cd97eca0813
X-WR-TIMEZONE:America/Chicago
BEGIN:VTIMEZONE
TZID:America/Chicago
BEGIN:STANDARD
TZNAME:CST
DTSTART:20221106T020000
TZOFFSETFROM:-0500
TZOFFSETTO:-0600
RDATE:20231105T020000
END:STANDARD
BEGIN:DAYLIGHT
TZNAME:CDT
DTSTART:20220313T020000
TZOFFSETFROM:-0600
TZOFFSETTO:-0500
RDATE:20230312T020000
RDATE:20240310T020000
END:DAYLIGHT
END:VTIMEZONE
BEGIN:VEVENT
UID:4a86afcd-1d73-4ea1-bbf3-e72282a46d30
DTSTAMP:20260423T081956Z
DESCRIPTION:
DTSTART;TZID=America/Chicago:20221118T120000
DTEND;TZID=America/Chicago:20221118T130000
LOCATION:
SUMMARY:Board Meeting
END:VEVENT
END:VCALENDAR
