BEGIN:VCALENDAR
VERSION:2.0
PRODID:-//casakc.org//NONSGML kigkonsult.se iCalcreator 2.30.10//
CALSCALE:GREGORIAN
METHOD:PUBLISH
UID:1f6a928d-8e21-42d9-a2bf-b81360ae3829
X-WR-CALDESC:
X-WR-RELCALID:caa89e1c5a48871cb6bb36829f8b87c2
X-WR-TIMEZONE:America/Chicago
BEGIN:VTIMEZONE
TZID:America/Chicago
BEGIN:STANDARD
TZNAME:CST
DTSTART:20221106T020000
TZOFFSETFROM:-0500
TZOFFSETTO:-0600
RDATE:20231105T020000
END:STANDARD
BEGIN:DAYLIGHT
TZNAME:CDT
DTSTART:20220313T020000
TZOFFSETFROM:-0600
TZOFFSETTO:-0500
RDATE:20230312T020000
RDATE:20240310T020000
END:DAYLIGHT
END:VTIMEZONE
BEGIN:VEVENT
UID:0805b279-89df-4937-a416-211a11eb1374
DTSTAMP:20260423T082005Z
DESCRIPTION:
DTSTART;TZID=America/Chicago:20221124T000000
DTEND;TZID=America/Chicago:20221125T235900
LOCATION:
SUMMARY:Thanksgiving Holiday CASA Office Closed
END:VEVENT
END:VCALENDAR
