BEGIN:VCALENDAR
VERSION:2.0
PRODID:-//casakc.org//NONSGML kigkonsult.se iCalcreator 2.30.10//
CALSCALE:GREGORIAN
METHOD:PUBLISH
UID:170ee095-aa2d-40af-ad0f-3b647f10a477
X-WR-CALDESC:
X-WR-RELCALID:037664d7f7fd2adb4c4e4183689138ac
X-WR-TIMEZONE:America/Chicago
BEGIN:VTIMEZONE
TZID:America/Chicago
BEGIN:STANDARD
TZNAME:CST
DTSTART:20221106T020000
TZOFFSETFROM:-0500
TZOFFSETTO:-0600
RDATE:20231105T020000
END:STANDARD
BEGIN:DAYLIGHT
TZNAME:CDT
DTSTART:20220313T020000
TZOFFSETFROM:-0600
TZOFFSETTO:-0500
RDATE:20230312T020000
RDATE:20240310T020000
END:DAYLIGHT
END:VTIMEZONE
BEGIN:VEVENT
UID:e50166a4-ee5f-4828-ad3f-39fe43339389
DTSTAMP:20260423T064711Z
DESCRIPTION:
DTSTART;TZID=America/Chicago:20221205T120000
DTEND;TZID=America/Chicago:20221205T130000
LOCATION:
SUMMARY:Nuts & Bolts Training
END:VEVENT
END:VCALENDAR
