BEGIN:VCALENDAR
VERSION:2.0
PRODID:-//casakc.org//NONSGML kigkonsult.se iCalcreator 2.30.10//
CALSCALE:GREGORIAN
METHOD:PUBLISH
UID:73f2a773-10fd-4178-96ad-97891225d90b
X-WR-CALDESC:
X-WR-RELCALID:0f63bf3dfbdb199c6531b8527e50abe0
X-WR-TIMEZONE:America/Chicago
BEGIN:VTIMEZONE
TZID:America/Chicago
BEGIN:STANDARD
TZNAME:CST
DTSTART:20221106T020000
TZOFFSETFROM:-0500
TZOFFSETTO:-0600
RDATE:20231105T020000
END:STANDARD
BEGIN:DAYLIGHT
TZNAME:CDT
DTSTART:20220313T020000
TZOFFSETFROM:-0600
TZOFFSETTO:-0500
RDATE:20230312T020000
RDATE:20240310T020000
END:DAYLIGHT
END:VTIMEZONE
BEGIN:VEVENT
UID:f18511e8-882c-442a-a4ae-8c3ea4379bfd
DTSTAMP:20260423T050551Z
DESCRIPTION:
DTSTART;TZID=America/Chicago:20230127T120000
DTEND;TZID=America/Chicago:20230127T130000
LOCATION:
SUMMARY:Board Meeting
END:VEVENT
END:VCALENDAR
