BEGIN:VCALENDAR
VERSION:2.0
PRODID:-//casakc.org//NONSGML kigkonsult.se iCalcreator 2.30.10//
CALSCALE:GREGORIAN
METHOD:PUBLISH
UID:8a0163af-d67e-47bc-bf00-d06c896bd17f
X-WR-CALDESC:Earn 8.0 of Missouri CLE credit\, including 1.0 hour of ethics
  and 1.0 hour of elimination of bias credit in this training that covers t
 he basics of serving as a Guardian ad Litem.  Attorneys who accept an assi
 gnment as a CASA Guardian ad Litem can waive the $250 registration fee.
X-WR-RELCALID:b7e577fd4f3161342fa634cc580b715d
X-WR-TIMEZONE:America/Chicago
BEGIN:VTIMEZONE
TZID:America/Chicago
BEGIN:STANDARD
TZNAME:CST
DTSTART:20221106T020000
TZOFFSETFROM:-0500
TZOFFSETTO:-0600
RDATE:20231105T020000
END:STANDARD
BEGIN:DAYLIGHT
TZNAME:CDT
DTSTART:20220313T020000
TZOFFSETFROM:-0600
TZOFFSETTO:-0500
RDATE:20230312T020000
RDATE:20240310T020000
END:DAYLIGHT
END:VTIMEZONE
BEGIN:VEVENT
UID:ba4f6f1c-1e8c-49d0-a0bf-beadaaccacd7
DTSTAMP:20260423T053548Z
DESCRIPTION:Earn 8.0 of Missouri CLE credit\, including 1.0 hour of ethics 
 and 1.0 hour of elimination of bias credit in this training that covers th
 e basics of serving as a Guardian ad Litem.  Attorneys who accept an assig
 nment as a CASA Guardian ad Litem can waive the $250 registration fee.
DTSTART;TZID=America/Chicago:20230127T080000
DTEND;TZID=America/Chicago:20230127T164000
LOCATION:https://calendar.umkc.edu/law/event/22013-guardian-ad-litem-traini
 ng-with-jackson-county
SUMMARY:Guardian ad Litem CLE
END:VEVENT
END:VCALENDAR
