BEGIN:VCALENDAR
VERSION:2.0
PRODID:-//casakc.org//NONSGML kigkonsult.se iCalcreator 2.30.10//
CALSCALE:GREGORIAN
METHOD:PUBLISH
UID:f1a0da1c-49c5-42eb-8b8f-409018d1b446
X-WR-CALDESC:Have you ever wondered what Chafee Services are or how to acce
 ss them for our older youth? Maybe you've heard of the program and are cur
 ious about what CASA does versus what Chafee does. Chafee Foster Care Prog
 ram for Successful Transition to Adulthood is a federal program for youth 
 in foster care ages 14 and older.\n\nCASA Volunteers who want to learn mor
 e about the Chafee Program and the services they provide are invited to jo
 in Jackson County CASA for a Nuts and Bolts Training on Wednesday\, Februa
 ry 8\, from 12 - 1 p.m. This training will be led by CASA Older Youth Spec
 ialist Kandi Bond and will be held in the Older Youth Space of the CASA Of
 fice (2544 Holmes\, KCMO 64108). If you're not able to attend in person\, 
 you can join virtually through the Zoom. Please contact Volunteer Program 
 Specialist Kara Strickler (kstrickler@jacksoncountycasa-mo.org) for the li
 nk.
X-WR-RELCALID:27536d20ead88dc36b89be75785a284a
X-WR-TIMEZONE:America/Chicago
BEGIN:VTIMEZONE
TZID:America/Chicago
BEGIN:STANDARD
TZNAME:CST
DTSTART:20221106T020000
TZOFFSETFROM:-0500
TZOFFSETTO:-0600
RDATE:20231105T020000
END:STANDARD
BEGIN:DAYLIGHT
TZNAME:CDT
DTSTART:20220313T020000
TZOFFSETFROM:-0600
TZOFFSETTO:-0500
RDATE:20230312T020000
RDATE:20240310T020000
END:DAYLIGHT
END:VTIMEZONE
BEGIN:VEVENT
UID:58337491-61ec-4e98-bde8-174c8aedfaaa
DTSTAMP:20260423T032304Z
DESCRIPTION:Have you ever wondered what Chafee Services are or how to acces
 s them for our older youth? Maybe you've heard of the program and are curi
 ous about what CASA does versus what Chafee does. Chafee Foster Care Progr
 am for Successful Transition to Adulthood is a federal program for youth i
 n foster care ages 14 and older.\n\nCASA Volunteers who want to learn more
  about the Chafee Program and the services they provide are invited to joi
 n Jackson County CASA for a Nuts and Bolts Training on Wednesday\, Februar
 y 8\, from 12 - 1 p.m. This training will be led by CASA Older Youth Speci
 alist Kandi Bond and will be held in the Older Youth Space of the CASA Off
 ice (2544 Holmes\, KCMO 64108). If you're not able to attend in person\, y
 ou can join virtually through the Zoom. Please contact Volunteer Program S
 pecialist Kara Strickler (kstrickler@jacksoncountycasa-mo.org) for the lin
 k.
DTSTART;TZID=America/Chicago:20230208T120000
DTEND;TZID=America/Chicago:20230208T130000
LOCATION:
SUMMARY:Nuts & Bolts Training: Chafee Program
END:VEVENT
END:VCALENDAR
