BEGIN:VCALENDAR
VERSION:2.0
PRODID:-//casakc.org//NONSGML kigkonsult.se iCalcreator 2.30.10//
CALSCALE:GREGORIAN
METHOD:PUBLISH
UID:51c7aa00-17cf-4bf8-81c6-023fc80a14f4
X-WR-CALDESC:Bring your best friend or your best Pal to learn about how you
  can be a CASA Volunteer.  We'll have treats for you to enjoy while we tal
 k about why CASA Volunteers are needed in our community.  Attending this i
 nfo session qualifies you for Volunteer training in February or any month 
 in 2023.
X-WR-RELCALID:cb6cde050d8c8bc400bc5dcd98703325
X-WR-TIMEZONE:America/Chicago
BEGIN:VTIMEZONE
TZID:America/Chicago
BEGIN:STANDARD
TZNAME:CST
DTSTART:20221106T020000
TZOFFSETFROM:-0500
TZOFFSETTO:-0600
RDATE:20231105T020000
END:STANDARD
BEGIN:DAYLIGHT
TZNAME:CDT
DTSTART:20220313T020000
TZOFFSETFROM:-0600
TZOFFSETTO:-0500
RDATE:20230312T020000
RDATE:20240310T020000
END:DAYLIGHT
END:VTIMEZONE
BEGIN:VEVENT
UID:4ae85808-917e-4515-817b-5172060c0404
DTSTAMP:20260423T034516Z
DESCRIPTION:Bring your best friend or your best Pal to learn about how you 
 can be a CASA Volunteer.  We'll have treats for you to enjoy while we talk
  about why CASA Volunteers are needed in our community.  Attending this in
 fo session qualifies you for Volunteer training in February or any month i
 n 2023.
DTSTART;TZID=America/Chicago:20230210T173000
DTEND;TZID=America/Chicago:20230210T181500
LOCATION:2544 Holmes St\, Kansas City\, MO 64108 US
SUMMARY:'Pal'entine's Info Session
END:VEVENT
END:VCALENDAR
