BEGIN:VCALENDAR
VERSION:2.0
PRODID:-//casakc.org//NONSGML kigkonsult.se iCalcreator 2.30.10//
CALSCALE:GREGORIAN
METHOD:PUBLISH
UID:ec449219-b76a-406d-a2cb-8b18176cac7b
X-WR-CALDESC:Join Jackson County CASA for a Volunteer Roundtable Breakfast 
 at the CASA office (2544 Holmes\, KCMO)! Volunteer Roundtables are an oppo
 rtunity to learn from and get to know CASA staff and ask any questions.
X-WR-RELCALID:861647238cd6ea915dc66fc303e0be13
X-WR-TIMEZONE:America/Chicago
BEGIN:VTIMEZONE
TZID:America/Chicago
BEGIN:STANDARD
TZNAME:CST
DTSTART:20221106T020000
TZOFFSETFROM:-0500
TZOFFSETTO:-0600
RDATE:20231105T020000
END:STANDARD
BEGIN:DAYLIGHT
TZNAME:CDT
DTSTART:20220313T020000
TZOFFSETFROM:-0600
TZOFFSETTO:-0500
RDATE:20230312T020000
RDATE:20240310T020000
END:DAYLIGHT
END:VTIMEZONE
BEGIN:VEVENT
UID:c554639a-cbfa-4939-ad63-1489ddea65cc
DTSTAMP:20260423T034409Z
DESCRIPTION:Join Jackson County CASA for a Volunteer Roundtable Breakfast a
 t the CASA office (2544 Holmes\, KCMO)! Volunteer Roundtables are an oppor
 tunity to learn from and get to know CASA staff and ask any questions.
DTSTART;TZID=America/Chicago:20230222T090000
DTEND;TZID=America/Chicago:20230222T100000
LOCATION:
SUMMARY:Volunteer Roundtable Breakfast
END:VEVENT
END:VCALENDAR
