BEGIN:VCALENDAR
VERSION:2.0
PRODID:-//casakc.org//NONSGML kigkonsult.se iCalcreator 2.30.10//
CALSCALE:GREGORIAN
METHOD:PUBLISH
UID:cbd2755b-60f4-4742-9bb2-54c26c0005be
X-WR-CALDESC:Join us for a 45-minute no-obligation information session at t
 he CASA office (2544 Holmes\, KCMO). During this info session\, you'll lea
 rn what it means to be a CASA volunteer and how you can join our efforts i
 n serving children in foster care. Attending an information session is a p
 rerequisite for attending CASA Volunteer Training.\n\nTo register for this
  in-person info session\, email Volunteer Specialist Kara Strickler at kst
 rickler@jacksoncountycasa-mo.org or click the Register Now button above.
X-WR-RELCALID:643b79b6640c878f550e0d0c78968564
X-WR-TIMEZONE:America/Chicago
BEGIN:VTIMEZONE
TZID:America/Chicago
BEGIN:STANDARD
TZNAME:CST
DTSTART:20221106T020000
TZOFFSETFROM:-0500
TZOFFSETTO:-0600
RDATE:20231105T020000
END:STANDARD
BEGIN:DAYLIGHT
TZNAME:CDT
DTSTART:20220313T020000
TZOFFSETFROM:-0600
TZOFFSETTO:-0500
RDATE:20230312T020000
RDATE:20240310T020000
END:DAYLIGHT
END:VTIMEZONE
BEGIN:VEVENT
UID:ac806c86-b3c9-42aa-9681-f61d9d32e6be
DTSTAMP:20260423T034109Z
DESCRIPTION:Join us for a 45-minute no-obligation information session at th
 e CASA office (2544 Holmes\, KCMO). During this info session\, you'll lear
 n what it means to be a CASA volunteer and how you can join our efforts in
  serving children in foster care. Attending an information session is a pr
 erequisite for attending CASA Volunteer Training.\n\nTo register for this 
 in-person info session\, email Volunteer Specialist Kara Strickler at kstr
 ickler@jacksoncountycasa-mo.org or click the Register Now button above.
DTSTART;TZID=America/Chicago:20230227T173000
DTEND;TZID=America/Chicago:20230227T181500
LOCATION:2544 Holmes St\, Kansas City\, MO 64108 US
SUMMARY:Volunteer Info Session
END:VEVENT
END:VCALENDAR
