BEGIN:VCALENDAR
VERSION:2.0
PRODID:-//casakc.org//NONSGML kigkonsult.se iCalcreator 2.30.10//
CALSCALE:GREGORIAN
METHOD:PUBLISH
UID:44accb78-cc8d-48e3-b19c-f282073b1d04
X-WR-CALDESC:Save the date for our first CASA 101 program on the year! Duri
 ng this hour you’ll learn more about Jackson County CASA\, including info 
 on our special events\, funding sources\, emergency assistance and enrichm
 ent resources for CASA children\, and more. This training is open to all C
 ASA Volunteers\, but is especially great for new volunteers.
X-WR-RELCALID:edd77063b190c1f08fb039370d92b78e
X-WR-TIMEZONE:America/Chicago
BEGIN:VTIMEZONE
TZID:America/Chicago
BEGIN:STANDARD
TZNAME:CST
DTSTART:20221106T020000
TZOFFSETFROM:-0500
TZOFFSETTO:-0600
RDATE:20231105T020000
END:STANDARD
BEGIN:DAYLIGHT
TZNAME:CDT
DTSTART:20220313T020000
TZOFFSETFROM:-0600
TZOFFSETTO:-0500
RDATE:20230312T020000
RDATE:20240310T020000
END:DAYLIGHT
END:VTIMEZONE
BEGIN:VEVENT
UID:a4237e96-f4e8-439b-92be-f131ef1cc49a
DTSTAMP:20260423T021405Z
DESCRIPTION:Save the date for our first CASA 101 program on the year! Durin
 g this hour you’ll learn more about Jackson County CASA\, including info o
 n our special events\, funding sources\, emergency assistance and enrichme
 nt resources for CASA children\, and more. This training is open to all CA
 SA Volunteers\, but is especially great for new volunteers.
DTSTART;TZID=America/Chicago:20230301T173000
DTEND;TZID=America/Chicago:20230301T183000
LOCATION:
SUMMARY:CASA 101
END:VEVENT
END:VCALENDAR
