BEGIN:VCALENDAR
VERSION:2.0
PRODID:-//casakc.org//NONSGML kigkonsult.se iCalcreator 2.30.10//
CALSCALE:GREGORIAN
METHOD:PUBLISH
UID:568dbbc4-11dd-449d-9642-7dd7b623255c
X-WR-CALDESC:The first meeting of our new CASA Volunteer Book Club is comin
 g up! During this meeting we will discuss the book Maid: Hard Work\, Low P
 ay\, and a Mother's Will to Survive by Stephanie Land. This is a great opp
 ortunity to add a new book to your 'To Be Read' list\, get to know other C
 ASA Volunteers\, and earn continuing education credit.
X-WR-RELCALID:65199a68ffafb66c89cb9495a39490ed
X-WR-TIMEZONE:America/Chicago
BEGIN:VTIMEZONE
TZID:America/Chicago
BEGIN:STANDARD
TZNAME:CST
DTSTART:20221106T020000
TZOFFSETFROM:-0500
TZOFFSETTO:-0600
RDATE:20231105T020000
END:STANDARD
BEGIN:DAYLIGHT
TZNAME:CDT
DTSTART:20230312T020000
TZOFFSETFROM:-0600
TZOFFSETTO:-0500
RDATE:20240310T020000
END:DAYLIGHT
END:VTIMEZONE
BEGIN:VEVENT
UID:fe141411-44c3-45b9-a191-9f00714f90b3
DTSTAMP:20260423T022821Z
DESCRIPTION:The first meeting of our new CASA Volunteer Book Club is coming
  up! During this meeting we will discuss the book Maid: Hard Work\, Low Pa
 y\, and a Mother's Will to Survive by Stephanie Land. This is a great oppo
 rtunity to add a new book to your 'To Be Read' list\, get to know other CA
 SA Volunteers\, and earn continuing education credit.
DTSTART;TZID=America/Chicago:20230316T173000
DTEND;TZID=America/Chicago:20230316T183000
LOCATION:2544 Holmes\, Kansas City\, MO 64108 US
SUMMARY:CASA Volunteer Book Club
END:VEVENT
END:VCALENDAR
