BEGIN:VCALENDAR
VERSION:2.0
PRODID:-//casakc.org//NONSGML kigkonsult.se iCalcreator 2.30.10//
CALSCALE:GREGORIAN
METHOD:PUBLISH
UID:9bb7e53e-936a-433a-9b70-fb2396ccdfb1
X-WR-CALDESC:
X-WR-RELCALID:84107f70272879a6f19ea9ed6595e20b
X-WR-TIMEZONE:America/Chicago
BEGIN:VTIMEZONE
TZID:America/Chicago
BEGIN:STANDARD
TZNAME:CST
DTSTART:20221106T020000
TZOFFSETFROM:-0500
TZOFFSETTO:-0600
RDATE:20231105T020000
END:STANDARD
BEGIN:DAYLIGHT
TZNAME:CDT
DTSTART:20230312T020000
TZOFFSETFROM:-0600
TZOFFSETTO:-0500
RDATE:20240310T020000
END:DAYLIGHT
END:VTIMEZONE
BEGIN:VEVENT
UID:be5c8dcb-c3cc-4dd4-a758-bc584183e925
DTSTAMP:20260423T023804Z
DESCRIPTION:
DTSTART;TZID=America/Chicago:20230324T120000
DTEND;TZID=America/Chicago:20230324T130000
LOCATION:
SUMMARY:Board Meeting
END:VEVENT
END:VCALENDAR
