BEGIN:VCALENDAR
VERSION:2.0
PRODID:-//casakc.org//NONSGML kigkonsult.se iCalcreator 2.30.10//
CALSCALE:GREGORIAN
METHOD:PUBLISH
UID:f39db4bd-0502-4d40-a3ae-f92a557ff10c
X-WR-CALDESC:
X-WR-RELCALID:e54ad8e7158a9a377f00d0338efef3d7
X-WR-TIMEZONE:America/Chicago
BEGIN:VTIMEZONE
TZID:America/Chicago
BEGIN:STANDARD
TZNAME:CST
DTSTART:20221106T020000
TZOFFSETFROM:-0500
TZOFFSETTO:-0600
RDATE:20231105T020000
END:STANDARD
BEGIN:DAYLIGHT
TZNAME:CDT
DTSTART:20230312T020000
TZOFFSETFROM:-0600
TZOFFSETTO:-0500
RDATE:20240310T020000
END:DAYLIGHT
END:VTIMEZONE
BEGIN:VEVENT
UID:77326946-94f0-4fea-9960-8f3574bf15f5
DTSTAMP:20260423T022923Z
DESCRIPTION:
DTSTART;TZID=America/Chicago:20230327T180000
DTEND;TZID=America/Chicago:20230327T190000
LOCATION:https://zoom.us/j/98789588774?pwd=QXdSRzExRXhsbXgwU3FMQTJzNi9Gdz09
 #success
SUMMARY:Zoom Bra Fitting Demo
END:VEVENT
END:VCALENDAR
