BEGIN:VCALENDAR
VERSION:2.0
PRODID:-//casakc.org//NONSGML kigkonsult.se iCalcreator 2.30.10//
CALSCALE:GREGORIAN
METHOD:PUBLISH
UID:44763307-dad1-4644-9540-5f9ca8363966
X-WR-CALDESC:
X-WR-RELCALID:f950f5d758e18c243916b163670040c6
X-WR-TIMEZONE:America/Chicago
BEGIN:VTIMEZONE
TZID:America/Chicago
BEGIN:STANDARD
TZNAME:CST
DTSTART:20221106T020000
TZOFFSETFROM:-0500
TZOFFSETTO:-0600
RDATE:20231105T020000
END:STANDARD
BEGIN:DAYLIGHT
TZNAME:CDT
DTSTART:20230312T020000
TZOFFSETFROM:-0600
TZOFFSETTO:-0500
RDATE:20240310T020000
END:DAYLIGHT
END:VTIMEZONE
BEGIN:VEVENT
UID:21863048-bffa-4547-90e3-adb82992cb63
DTSTAMP:20260423T004505Z
DESCRIPTION:
DTSTART;TZID=America/Chicago:20230412T120000
DTEND;TZID=America/Chicago:20230412T130000
LOCATION:2544 Holmes St\, Kansas City\, MO 64108 US
SUMMARY:Continuing Education: Visit Tools
END:VEVENT
END:VCALENDAR
